BEGIN:VCALENDAR
VERSION:2.0
PRODID:-//ChamberMaster//Event Calendar 2.0//EN
METHOD:PUBLISH
X-PUBLISHED-TTL:P3D
REFRESH-INTERVAL:P3D
CALSCALE:GREGORIAN
BEGIN:VEVENT
DTSTART:20260512T233000Z
DTEND:20260513T010000Z
X-MICROSOFT-CDO-ALLDAYEVENT:FALSE
SUMMARY:The Crucial Ten Days of the Revolutionary War: Trenton and Princeton\, 1776-1777
DESCRIPTION:Please join us for a discussion of what have been called "The Crucial Ten Days" of the American Revolutionary War\, and their aftermath.
X-ALT-DESC;FMTTYPE=text/html:Please join us for a discussion of what have been called &quot\;The Crucial Ten Days&quot\; of the American Revolutionary War\, and their aftermath.
LOCATION:440 Wells St Basement Suite Delafield\, WI 53018
UID:e.173.15207
SEQUENCE:3
DTSTAMP:20260424T080805Z
URL:https://delafieldchamber.com/events/details/the-crucial-ten-days-of-the-revolutionary-war-trenton-and-princeton-1776-1777-15207
END:VEVENT

END:VCALENDAR
