BEGIN:VCALENDAR
VERSION:2.0
PRODID:-//ChamberMaster//Event Calendar 2.0//EN
METHOD:PUBLISH
X-PUBLISHED-TTL:P3D
REFRESH-INTERVAL:P3D
CALSCALE:GREGORIAN
BEGIN:VEVENT
DTSTART:20300711T131500Z
DTEND:20300711T141500Z
X-MICROSOFT-CDO-ALLDAYEVENT:FALSE
SUMMARY:Delafield Board of Directors Meeting
DESCRIPTION:The Board of Directors is the policy-making body.  Its members are volunteers who represent the business and professional leadership of the community.  A paid\, professional staff\, directed by the Executive Director\, handles the day-to-day operations\, programs\, activities\, and events.\n\nAn Executive Committee consists of the Chamber President\, Vice President\, Executive Director\, Treasurer and Immediate Past President.  It exercises the powers of the Board in emergency situations between Board meetings.
X-ALT-DESC;FMTTYPE=text/html:<p style="box-sizing: border-box\; margin-top: 0px\; margin-bottom: 1rem\; color: rgb(35\, 35\, 35)\; font-family: Lato\, sans-serif\; font-size: 18px\; text-align: center\; transition-delay: 0s !important\; transition-duration: 0s !important\;">The Board of Directors is the policy-making body.&nbsp\; Its members are volunteers who represent the business and professional leadership of the community.&nbsp\; A paid\, professional staff\, directed by the Executive Director\, handles the day-to-day operations\, programs\, activities\, and events.</p>\n\n<p style="box-sizing: border-box\; margin-top: 0px\; margin-bottom: 1rem\; color: rgb(35\, 35\, 35)\; font-family: Lato\, sans-serif\; font-size: 18px\; text-align: center\; transition-delay: 0s !important\; transition-duration: 0s !important\;">An Executive Committee consists of the Chamber President\, Vice President\, Executive Director\, Treasurer and Immediate Past President.&nbsp\; It exercises the powers of the Board in emergency situations between Board meetings.</p>\n
LOCATION:Revere's Wells Street Tavern 505 Wells St Delafield\, WI
UID:e.173.15025
SEQUENCE:3
DTSTAMP:20260423T055950Z
URL:https://delafieldchamber.com/events/details/delafield-board-of-directors-meeting-07-11-2030-15025
END:VEVENT

END:VCALENDAR
