BEGIN:VCALENDAR
VERSION:2.0
PRODID:-//ChamberMaster//Event Calendar 2.0//EN
METHOD:PUBLISH
X-PUBLISHED-TTL:P3D
REFRESH-INTERVAL:P3D
CALSCALE:GREGORIAN
BEGIN:VEVENT
DTSTART:20260507T130000Z
DTEND:20260507T220000Z
X-MICROSOFT-CDO-ALLDAYEVENT:FALSE
SUMMARY:Dealing with Difficult Individuals and Situations
DESCRIPTION:Knowing how to effectively deal with difficult individuals will benefit both you and your organization. Specific strategies on how to face conflict more confidently will be covered in this workshop\, as well as how to handle awkward situations that cause frustration\, anger\, and an unproductive environment. Identify and understand problem personalities. Learn techniques to diffuse explosive situations. Review a six step model for managing conflict. Identify your conflict style and assess the state of your team.
X-ALT-DESC;FMTTYPE=text/html:Knowing how to effectively deal with difficult individuals will benefit both you and your organization. Specific strategies on how to face conflict more confidently will be covered in this workshop\, as well as how to handle awkward situations that cause frustration\, anger\, and an unproductive environment. Identify and understand problem personalities. Learn techniques to diffuse explosive situations. Review a six step model for managing conflict. Identify your conflict style and assess the state of your team.
LOCATION:WCTC Corporate Training Center 800 Main St\, Building Q ?Pewaukee\, WI 53072
UID:e.173.15202
SEQUENCE:3
DTSTAMP:20260421T085918Z
URL:https://delafieldchamber.com/events/details/dealing-with-difficult-individuals-and-situations-15202
END:VEVENT

END:VCALENDAR
