BEGIN:VCALENDAR
VERSION:2.0
PRODID:-//ChamberMaster//Event Calendar 2.0//EN
METHOD:PUBLISH
X-PUBLISHED-TTL:P3D
REFRESH-INTERVAL:P3D
CALSCALE:GREGORIAN
BEGIN:VEVENT
DTSTART:20260512T130000Z
DTEND:20260512T220000Z
X-MICROSOFT-CDO-ALLDAYEVENT:FALSE
SUMMARY:Competencies for New and Prospective Leaders
DESCRIPTION:New leaders often receive their promotions because of great technical skills\, but they do not feel equipped to deal with the complex leadership issues that they are called upon to handle. During this workshop\, we will discuss and explore the concerns\, anxieties\, and expectations about transitioning from worker to leader and cover some foundational skills to help you confidently take on your leadership role. Define what leadership means to you. Discuss the difference between manager vs leader. Recognize and apply the qualities/traits of an effective leader. Identify ways to develop a motivating atmosphere. Discuss steps to effectively delegate.
X-ALT-DESC;FMTTYPE=text/html:New leaders often receive their promotions because of great technical skills\, but they do not feel equipped to deal with the complex leadership issues that they are called upon to handle. During this workshop\, we will discuss and explore the concerns\, anxieties\, and expectations about transitioning from worker to leader and cover some foundational skills to help you confidently take on your leadership role. Define what leadership means to you. Discuss the difference between manager vs leader. Recognize and apply the qualities/traits of an effective leader. Identify ways to develop a motivating atmosphere. Discuss steps to effectively delegate.
LOCATION:WCTC Corporate Training Center 800 Main St\, Building Q ?Pewaukee\, WI 53072
UID:e.173.15201
SEQUENCE:3
DTSTAMP:20260421T090011Z
URL:https://delafieldchamber.com/events/details/competencies-for-new-and-prospective-leaders-15201
END:VEVENT

END:VCALENDAR
