BEGIN:VCALENDAR
VERSION:2.0
PRODID:-//ChamberMaster//Event Calendar 2.0//EN
METHOD:PUBLISH
X-PUBLISHED-TTL:P3D
REFRESH-INTERVAL:P3D
CALSCALE:GREGORIAN
BEGIN:VEVENT
DTSTART:20310408T170000Z
DTEND:20310408T180000Z
X-MICROSOFT-CDO-ALLDAYEVENT:FALSE
SUMMARY:Ambassador Meeting
DESCRIPTION:Ambassadors are an exclusive group of volunteers who volunteer for Chamber member organizations\, believe in the Chamber's mission\, support their community\, and help with many of the Chamber's activities and events. Ambassadors have an opportunity not only to represent and promote the Chamber\, but to connect and engage with other members\, local elected officials\, and key business stakeholders\, while also promoting their own business at various Chamber events.
X-ALT-DESC;FMTTYPE=text/html:<span style="font-family:century gothic\,sans-serif\;"><span style="font-size:13.0pt\;">Ambassadors are an exclusive group of volunteers who volunteer for Chamber member organizations\, believe in the Chamber&rsquo\;s mission\, support their community\, and help with many of the Chamber&rsquo\;s activities and events. Ambassadors have an opportunity not only to represent and promote the Chamber\, but to connect and engage with other members\, local elected officials\, and key business stakeholders\, while also promoting their own business at various Chamber events.</span></span>
LOCATION:Revere's Wells Street Tavern 505 Wells St. Delafield\, WI
UID:e.173.14902
SEQUENCE:3
DTSTAMP:20260423T224758Z
URL:https://delafieldchamber.com/events/details/ambassador-meeting-04-08-2031-14902
END:VEVENT

END:VCALENDAR
